Workbook

Sheet Alimentos
C3: COMPRAS GENERAL | I3: SEDE MONJAS, JALAPA | P3: SEDE COMALAPA, CHIMALTENANGO | W3: SEDE DOLORES, PETEN
C5: CANT | D5: DESCRIPCION | E5: P UNITARIO | F5: P TOTAL | I5: CANT | J5: DESCRIPCION | K5: P UNITARIO | L5: P TOTAL | P5: CANT | Q5: DESCRIPCION | R5: P UNITARIO | S5: P TOTAL | W5: CANT | X5: DESCRIPCION | Y5: P UNITARIO | Z5: P TOTAL
C6: 40 | D6: Gas propano de 25 lbs | E6: 130 | F6: =+C6*E6 -> 5200 | I6: 20 | J6: Gas propano de 25 lbs | K6: 130 | L6: =+I6*K6 -> 2600 | P6: 10 | Q6: Gas propano de 25 lbs | R6: 130 | S6: =+P6*R6 -> 1300 | W6: 10 | X6: Gas propano de 25 lbs | Y6: 130 | Z6: =+W6*Y6 -> 1300
C7: 40 | D7: Leche entera en polvo de 2200 g | E7: 150 | F7: =+C7*E7 -> 6000 | I7: 20 | J7: Leche entera en polvo de 2200 g | K7: 150 | L7: =+I7*K7 -> 3000 | P7: 10 | Q7: Leche entera en polvo de 2200 g | R7: 150 | S7: =+P7*R7 -> 1500 | W7: 10 | X7: Leche entera en polvo de 2200 g | Y7: 150 | Z7: =+W7*Y7 -> 1500
C8: 60 | D8: Leche descremada en polvo de 1500 g | E8: 105 | F8: =+C8*E8 -> 6300 | I8: 30 | J8: Leche descremada en polvo de 1500 g | K8: 105 | L8: =+I8*K8 -> 3150 | P8: 15 | Q8: Leche descremada en polvo de 1500 g | R8: 105 | S8: =+P8*R8 -> 1575 | W8: 15 | X8: Leche descremada en polvo de 1500 g | Y8: 105 | Z8: =+W8*Y8 -> 1575
C9: 50 | D9: Café Instantaneo Soluble de 300g | E9: 60 | F9: =+C9*E9 -> 3000 | I9: 25 | J9: Café Instantaneo Soluble de 300g | K9: 60 | L9: =+I9*K9 -> 1500 | P9: 13 | Q9: Café Instantaneo Soluble de 300g | R9: 60 | S9: =+P9*R9 -> 780 | W9: 12 | X9: Café Instantaneo Soluble de 300g | Y9: 60 | Z9: =+W9*Y9 -> 720
C10: 60 | D10: Café molido y tostado 350g | E10: 28 | F10: =+C10*E10 -> 1680 | I10: 30 | J10: Café molido y tostado 350g | K10: 28 | L10: =+I10*K10 -> 840 | P10: 15 | Q10: Café molido y tostado 350g | R10: 28 | S10: =+P10*R10 -> 420 | W10: 15 | X10: Café molido y tostado 350g | Y10: 28 | Z10: =+W10*Y10 -> 420
C11: 250 | D11: Libra de frijol Negro | E11: 7 | F11: =+C11*E11 -> 1750 | I11: 125 | J11: Libra de frijol Negro | K11: 7 | L11: =+I11*K11 -> 875 | P11: 63 | Q11: Libra de frijol Negro | R11: 7 | S11: =+P11*R11 -> 441 | W11: 62 | X11: Libra de frijol Negro | Y11: 7 | Z11: =+W11*Y11 -> 434
C12: 300 | D12: Harina de haba para atol 425g | E12: 12.6 | F12: =+C12*E12 -> 3780 | I12: 150 | J12: Harina de haba para atol 425g | K12: 12.6 | L12: =+I12*K12 -> 1890 | P12: 75 | Q12: Harina de haba para atol 425g | R12: 12.6 | S12: =+P12*R12 -> 945 | W12: 75 | X12: Harina de haba para atol 425g | Y12: 12.6 | Z12: =+W12*Y12 -> 945
C13: 300 | D13: Atol Corazon de trigo | E13: 7.5 | F13: =+C13*E13 -> 2250 | I13: 150 | J13: Atol Corazon de trigo | K13: 7.5 | L13: =+I13*K13 -> 1125 | P13: 75 | Q13: Atol Corazon de trigo | R13: 7.5 | S13: =+P13*R13 -> 562.5 | W13: 75 | X13: Atol Corazon de trigo | Y13: 7.5 | Z13: =+W13*Y13 -> 562.5
C14: 120 | D14: Mezcla Vegetal fortificada para Hacer Atol 900g | E14: 20 | F14: =+C14*E14 -> 2400 | I14: 60 | J14: Mezcla Vegetal fortificada para Hacer Atol 900g | K14: 20 | L14: =+I14*K14 -> 1200 | P14: 30 | Q14: Mezcla Vegetal fortificada para Hacer Atol 900g | R14: 20 | S14: =+P14*R14 -> 600 | W14: 30 | X14: Mezcla Vegetal fortificada para Hacer Atol 900g | Y14: 20 | Z14: =+W14*Y14 -> 600
C15: 76 | D15: Bebida vegetal fortificada con edulzante artificial 6pack 200ml c/u | E15: 18.5 | F15: =+C15*E15 -> 1406 | I15: 38 | J15: Bebida vegetal fortificada con edulzante artificial 6pack 200ml c/u | K15: 18.5 | L15: =+I15*K15 -> 703 | P15: 19 | Q15: Bebida vegetal fortificada con edulzante artificial 6pack 200ml c/u | R15: 18.5 | S15: =+P15*R15 -> 351.5 | W15: 19 | X15: Bebida vegetal fortificada con edulzante artificial 6pack 200ml c/u | Y15: 18.5 | Z15: =+W15*Y15 -> 351.5
C16: 152 | D16: Bebida vegetal fortificada 6pack 200ml c/u | E16: 16 | F16: =+C16*E16 -> 2432 | I16: 76 | J16: Bebida vegetal fortificada 6pack 200ml c/u | K16: 16 | L16: =+I16*K16 -> 1216 | P16: 38 | Q16: Bebida vegetal fortificada 6pack 200ml c/u | R16: 16 | S16: =+P16*R16 -> 608 | W16: 38 | X16: Bebida vegetal fortificada 6pack 200ml c/u | Y16: 16 | Z16: =+W16*Y16 -> 608
C17: 150 | D17: Carton de Huevos de 30 unidades | E17: 40 | F17: =+C17*E17 -> 6000 | I17: 75 | J17: Carton de Huevos de 30 unidades | K17: 40 | L17: =+I17*K17 -> 3000 | P17: 38 | Q17: Carton de Huevos de 30 unidades | R17: 40 | S17: =+P17*R17 -> 1520 | W17: 37 | X17: Carton de Huevos de 30 unidades | Y17: 40 | Z17: =+W17*Y17 -> 1480
... C71: 300 | D71: Libra de cebolla | E71: 4 | F71: =+C71*E71 -> 1200 | I71: 150 | J71: Libra de cebolla | K71: 4 | L71: =+I71*K71 -> 600 | P71: 75 | Q71: Libra de cebolla | R71: 4 | S71: =+P71*R71 -> 300 | W71: 75 | X71: Libra de cebolla | Y71: 4 | Z71: =+W71*Y71 -> 300
C72: =SUM(C6:C71) -> 8286 | F72: =SUM(F6:F71) -> 130819 | I72: =SUM(I6:I71) -> 4143 | L72: =SUM(L6:L71) -> 65409.5 | S72: =SUM(S6:S71) -> 32931 | W72: =SUM(W6:W71) -> 2060 | Z72: =SUM(Z6:Z71) -> 32478.5

Sheet Utiles de limpieza
C3: COMPRAS GENERAL | I3: SEDE MONJAS, JALAPA | O3: SEDE COMALAPA, CHIMALTENANGO | U3: SEDE DOLORES, PETEN
C5: CANT | D5: DESCRIPCION | E5: P UNITARIO | F5: P TOTAL | I5: CANT | J5: DESCRIPCION | K5: P UNITARIO | L5: P TOTAL | O5: CANT | P5: DESCRIPCION | Q5: P UNITARIO | R5: P TOTAL | U5: CANT | V5: DESCRIPCION | W5: P UNITARIO | X5: P TOTAL
D6: Cloro presentación de Galón | E6: 25 | F6: =+C6*E6 -> 0 | J6: Cloro presentación de Galón | K6: 25 | L6: =+I6*K6 -> 0 | P6: Cloro presentación de Galón | Q6: 25 | R6: =+O6*Q6 -> 0 | V6: Cloro presentación de Galón | W6: 25 | X6: =+U6*W6 -> 0
D7: Desinfectante Presentación galón | E7: 50 | F7: =+C7*E7 -> 0 | J7: Desinfectante Presentación galón | K7: 50 | L7: =+I7*K7 -> 0 | P7: Desinfectante Presentación galón | Q7: 50 | R7: =+O7*Q7 -> 0 | V7: Desinfectante Presentación galón | W7: 50 | X7: =+U7*W7 -> 0
D8: Suavizante de ropa Presentación galón | E8: 90 | F8: =+C8*E8 -> 0 | J8: Suavizante de ropa Presentación galón | K8: 90 | L8: =+I8*K8 -> 0 | P8: Suavizante de ropa Presentación galón | Q8: 90 | R8: =+O8*Q8 -> 0 | V8: Suavizante de ropa Presentación galón | W8: 90 | X8: =+U8*W8 -> 0
D9: Shampoo para cabello anticaída 1000ml | E9: 80 | F9: =+C9*E9 -> 0 | J9: Shampoo para cabello anticaída 1000ml | K9: 80 | L9: =+I9*K9 -> 0 | P9: Shampoo para cabello anticaída 1000ml | Q9: 80 | R9: =+O9*Q9 -> 0 | V9: Shampoo para cabello anticaída 1000ml | W9: 80 | X9: =+U9*W9 -> 0
D10: Jabón corporal 110 g 3 piezas | E10: 18 | F10: =+C10*E10 -> 0 | J10: Jabón corporal 110 g 3 piezas | K10: 18 | L10: =+I10*K10 -> 0 | P10: Jabón corporal 110 g 3 piezas | Q10: 18 | R10: =+O10*Q10 -> 0 | V10: Jabón corporal 110 g 3 piezas | W10: 18 | X10: =+U10*W10 -> 0
D11: Jabón en Bola 3 pack 375g c/u | E11: 20 | F11: =+C11*E11 -> 0 | J11: Jabón en Bola 3 pack 375g c/u | K11: 20 | L11: =+I11*K11 -> 0 | P11: Jabón en Bola 3 pack 375g c/u | Q11: 20 | R11: =+O11*Q11 -> 0 | V11: Jabón en Bola 3 pack 375g c/u | W11: 20 | X11: =+U11*W11 -> 0
D12: Jabón natural en Bola 3 pack 300g c/u | E12: 20 | F12: =+C12*E12 -> 0 | J12: Jabón natural en Bola 3 pack 300g c/u | K12: 20 | L12: =+I12*K12 -> 0 | P12: Jabón natural en Bola 3 pack 300g c/u | Q12: 20 | R12: =+O12*Q12 -> 0 | V12: Jabón natural en Bola 3 pack 300g c/u | W12: 20 | X12: =+U12*W12 -> 0
D13: Lavaplatos Limon 1000 gramos | E13: 24 | F13: =+C13*E13 -> 0 | J13: Lavaplatos Limon 1000 gramos | K13: 24 | L13: =+I13*K13 -> 0 | P13: Lavaplatos Limon 1000 gramos | Q13: 24 | R13: =+O13*Q13 -> 0 | V13: Lavaplatos Limon 1000 gramos | W13: 24 | X13: =+U13*W13 -> 0
D14: Lavaplatos Limon 3pack 425 gramos c/u | E14: 27.4 | F14: =+C14*E14 -> 0 | J14: Lavaplatos Limon 3pack 425 gramos c/u | K14: 27.4 | L14: =+I14*K14 -> 0 | P14: Lavaplatos Limon 3pack 425 gramos c/u | Q14: 27.4 | R14: =+O14*Q14 -> 0 | V14: Lavaplatos Limon 3pack 425 gramos c/u | W14: 27.4 | X14: =+U14*W14 -> 0
D15: Caja de bolsas color negro jardineras 15 Unidades | E15: 39.4 | F15: =+C15*E15 -> 0 | J15: Caja de bolsas color negro jardineras 15 Unidades | K15: 39.4 | L15: =+I15*K15 -> 0 | P15: Caja de bolsas color negro jardineras 15 Unidades | Q15: 39.4 | R15: =+O15*Q15 -> 0 | V15: Caja de bolsas color negro jardineras 15 Unidades | W15: 39.4 | X15: =+U15*W15 -> 0
F16: =+C16*E16 -> 0 | L16: =+I16*K16 -> 0 | R16: =+O16*Q16 -> 0 | X16: =+U16*W16 -> 0
F17: =+C17*E17 -> 0 | L17: =+I17*K17 -> 0 | R17: =+O17*Q17 -> 0 | X17: =+U17*W17 -> 0
C19: =SUM(C6:C18) -> 0 | F19: =SUM(F6:F18) -> 0 | I19: =SUM(I6:I18) -> 0 | L19: =SUM(L6:L18) -> 0 | O19: =SUM(O6:O18) -> 0 | R19: =SUM(R6:R18) -> 0 | U19: =SUM(U6:U18) -> 0 | X19: =SUM(X6:X18) -> 0

Sheet Productos Sanitarios
C3: COMPRAS GENERAL | I3: SEDE MONJAS, JALAPA | O3: SEDE COMALAPA, CHIMALTENANGO | U3: SEDE DOLORES, PETEN
C5: CANT | D5: DESCRIPCION | E5: P UNITARIO | F5: P TOTAL | I5: CANT | J5: DESCRIPCION | K5: P UNITARIO | L5: P TOTAL | O5: CANT | P5: DESCRIPCION | Q5: P UNITARIO | R5: P TOTAL | U5: CANT | V5: DESCRIPCION | W5: P UNITARIO | X5: P TOTAL
D6: Guante de latex talla S 100 unidades | E6: 110 | F6: =+C6*E6 -> 0 | J6: Guante de latex talla S 100 unidades | K6: 110 | L6: =+I6*K6 -> 0 | P6: Caja de guante de latex talla S 100 unidades | Q6: 110 | R6: =+O6*Q6 -> 0 | V6: Guante de latex talla S 100 unidades | W6: 110 | X6: =+U6*W6 -> 0
D7: Guante de latex talla M 100 unidades | E7: 110 | F7: =+C7*E7 -> 0 | J7: Guante de latex talla M 100 unidades | K7: 110 | L7: =+I7*K7 -> 0 | P7: Caja de guante de latex talla M 100 unidades | Q7: 110 | R7: =+O7*Q7 -> 0 | V7: Guante de latex talla M 100 unidades | W7: 110 | X7: =+U7*W7 -> 0
D8: Guante de latex talla L 100 unidades | E8: 110 | F8: =+C8*E8 -> 0 | J8: Guante de latex talla L 100 unidades | K8: 110 | L8: =+I8*K8 -> 0 | P8: Caja de guante de latex talla L 100 unidades | Q8: 110 | R8: =+O8*Q8 -> 0 | V8: Guante de latex talla L 100 unidades | W8: 110 | X8: =+U8*W8 -> 0
D9: Toallas humedas 80 unidades | E9: 13 | F9: =+C9*E9 -> 0 | J9: Toallas humedas 80 unidades | K9: 13 | L9: =+I9*K9 -> 0 | P9: Paquete de toallas humedas 80 unidades | Q9: 13 | R9: =+O9*Q9 -> 0 | V9: Toallas humedas 80 unidades | W9: 13 | X9: =+U9*W9 -> 0
D10: Papel higienico fardo 12 Unidades | E10: 50 | F10: =+C10*E10 -> 0 | J10: Papel higienico fardo 12 Unidades | K10: 50 | L10: =+I10*K10 -> 0 | P10: Papel higienico fardo 12 Unidades | Q10: 50 | R10: =+O10*Q10 -> 0 | V10: Papel higienico fardo 12 Unidades | W10: 50 | X10: =+U10*W10 -> 0
C13: =SUM(C6:C12) -> 0 | F13: =SUM(F6:F12) -> 0 | I13: =SUM(I6:I12) -> 0 | L13: =SUM(L6:L12) -> 0 | O13: =SUM(O6:O12) -> 0 | R13: =SUM(R6:R12) -> 0 | U13: =SUM(U6:U12) -> 0 | X13: =SUM(X6:X12) -> 0

Sheet Medicamentos
C3: COMPRAS GENERAL | I3: SEDE MONJAS, JALAPA | O3: SEDE COMALAPA, CHIMALTENANGO | U3: SEDE DOLORES, PETEN
C5: CANT | D5: DESCRIPCION | E5: P UNITARIO | F5: P TOTAL | I5: CANT | J5: DESCRIPCION | K5: P UNITARIO | L5: P TOTAL | O5: CANT | P5: DESCRIPCION | Q5: P UNITARIO | R5: P TOTAL | U5: CANT | V5: DESCRIPCION | W5: P UNITARIO | X5: P TOTAL
C6: 80 | D6: Acido Acetilsalicilico 81g 30 tabletas | E6: 85.45 | F6: =+C6*E6 -> 6836 | I6: 40 | J6: Acido Acetilsalicilico 81g 30 tabletas | K6: 85.45 | L6: =+I6*K6 -> 3418 | O6: 20 | P6: Acido Acetilsalicilico 81g 30 tabletas | Q6: 85.45 | R6: =+O6*Q6 -> 1709 | U6: 20 | V6: Acido Acetilsalicilico 81g 30 tabletas | W6: 85.45 | X6: =+U6*W6 -> 1709
C7: 40 | D7: Loratadina 10g 100 tabletas | E7: 110.14 | F7: =+C7*E7 -> 4405.6 | I7: 20 | J7: Loratadina 10g 100 tabletas | K7: 110.14 | L7: =+I7*K7 -> 2202.8 | O7: 10 | P7: Loratadina 10g 100 tabletas | Q7: 110.14 | R7: =+O7*Q7 -> 1101.4 | U7: 10 | V7: Loratadina 10g 100 tabletas | W7: 110.14 | X7: =+U7*W7 -> 1101.4
C8: 55 | D8: Olanzapina 5mg caja de 28 tabletas | E8: 434.63073 | F8: =+C8*E8 -> 23904.69 | I8: 28 | J8: Olanzapina 5mg caja de 28 tabletas | K8: 434.63073 | L8: =+I8*K8 -> 12169.66 | O8: 14 | P8: Olanzapina 5mg caja de 28 tabletas | Q8: 434.63073 | R8: =+O8*Q8 -> 6084.8302 | U8: 13 | V8: Olanzapina 5mg caja de 28 tabletas | W8: 434.63073 | X8: =+U8*W8 -> 5650.1994
C9: 13 | D9: clorhidrato de ambroxol 150 mL, clorhidrato de clenbuterol 0,1 mg. | E9: 88.22 | F9: =+C9*E9 -> 1146.86 | I9: 7 | J9: clorhidrato de ambroxol 150 mL, clorhidrato de clenbuterol 0,1 mg. | K9: 88.22 | L9: =+I9*K9 -> 617.54 | O9: 3 | P9: clorhidrato de ambroxol 150 mL, clorhidrato de clenbuterol 0,1 mg. | Q9: 88.22 | R9: =+O9*Q9 -> 264.66 | U9: 3 | V9: clorhidrato de ambroxol 150 mL, clorhidrato de clenbuterol 0,1 mg. | W9: 88.22 | X9: =+U9*W9 -> 264.66
C10: =SUM(C6:C9) -> 188 | F10: =SUM(F6:F9) -> 36293.15 | I10: =SUM(I6:I9) -> 95 | L10: =SUM(L6:L9) -> 18408 | O10: =SUM(O6:O9) -> 47 | R10: =SUM(R6:R9) -> 9159.8902 | U10: =SUM(U6:U9) -> 46 | X10: =SUM(X6:X9) -> 8725.2594

Sheet Resumen
C2: Asociación Gloria por Cenizas
C3: Cuentas por Pagar
C4: Mes de Julio, 2023
E7: Cantidades Expresadas en Q.
C10: No. | D10: PROVEEDOR | E10: ALIMENTACION | F10: UTILES DE LIMPIEZA | G10: PRODUCTOS SANITARIOS | H10: PRODUCTOS MEDICINALES | I10: TOTAL POR PROVEEDOR
C12: 1 | D12: ABARROTERIA AVALOS | E12: =+Alimentos!L72 -> 65409.5 | F12: =+'Utiles de limpieza'!L19 -> 0 | G12: =+'Productos Sanitarios'!L13 -> 0 | I12: =SUM(E12:H12) -> 65409.5
C13: 2 | D13: ALIMENTOS LUCERITO | E13: =+Alimentos!S72 -> 32931 | F13: =+'Utiles de limpieza'!R19 -> 0 | G13: =+'Productos Sanitarios'!R13 -> 0 | I13: =SUM(E13:H13) -> 32931
C14: 3 | D14: FARMACIA HIDALGO | H14: 0 | I14: =SUM(E14:H14) -> 0
I15: =SUM(E15:H15) -> 0
I16: =SUM(E16:H16) -> 0
I17: =SUM(E17:H17) -> 0
D19: TOTAL POR RUBRO | E19: =SUM(E12:E18) -> 98340.5 | F19: =SUM(F12:F18) -> 0 | G19: =SUM(G12:G18) -> 0 | H19: =SUM(H12:H18) -> 0 | I19: =SUM(E19:H19) -> 98340.5
B32: Total a Abril
